BEGIN:VCALENDAR
VERSION:2.0
PRODID:-//10xdraftsmedia - ECPv6.15.11//NONSGML v1.0//EN
CALSCALE:GREGORIAN
METHOD:PUBLISH
X-WR-CALNAME:10xdraftsmedia
X-ORIGINAL-URL:https://10xdraftsmedia.com
X-WR-CALDESC:Events for 10xdraftsmedia
REFRESH-INTERVAL;VALUE=DURATION:PT1H
X-Robots-Tag:noindex
X-PUBLISHED-TTL:PT1H
BEGIN:VTIMEZONE
TZID:UTC
BEGIN:STANDARD
TZOFFSETFROM:+0000
TZOFFSETTO:+0000
TZNAME:UTC
DTSTART:20250101T000000
END:STANDARD
END:VTIMEZONE
BEGIN:VEVENT
DTSTART;TZID=UTC:20260117T100000
DTEND;TZID=UTC:20260118T180000
DTSTAMP:20260421T230420
CREATED:20230825T015530Z
LAST-MODIFIED:20260114T121826Z
UID:331-1768644000-1768759200@10xdraftsmedia.com
SUMMARY:Public Connect Expo 2026 is here!
DESCRIPTION:Discover amazing products\, enjoy delicious food\, and meet your community. 🛍️🍔📅 Jan 17 & 18\, 2026 | 📍 Rangalaya Kalyana Mandapam\, Katpadi\, Vellore🎟️ FREE Entry | Mega Lucky Draws Await! 🎁Everyone is welcome—bring your friends and family! 👨‍👩‍👧‍👦
URL:https://10xdraftsmedia.com/event/international-architecture-2024/
LOCATION:Rangalaya Kalyana Mandapam\, Katpadi\, Vellore\, 60/1\, Vellore - Chittoor Rd\, Suthanthira Ponvizha Nagar\, Venkatraman Nagar\, Dharapadavedu\, Vellore\, Tamil Nadu\, 632006\, India
CATEGORIES:Seminars
ATTACH;FMTTYPE=image/jpeg:https://10xdraftsmedia.com/wp-content/uploads/2023/07/portfolio-8.jpg
ORGANIZER;CN="Gary Jones":MAILTO:contact@example.com
END:VEVENT
BEGIN:VEVENT
DTSTART;TZID=UTC:20260228T090000
DTEND;TZID=UTC:20260303T180000
DTSTAMP:20260421T230420
CREATED:20230825T015817Z
LAST-MODIFIED:20260114T120237Z
UID:336-1772269200-1772560800@10xdraftsmedia.com
SUMMARY:IMPA TRADE FAIR 2026 (ITF-2026)
DESCRIPTION:IMPA Trade Fair 2026 (ITF-2026) is a prestigious international business expo\, proudly known as the “Festival of Business.”The 2nd edition brings together entrepreneurs\, manufacturers\, exporters\, startups\, MSMEs\, and global brands under one roof to explore trade opportunities\, partnerships\, and future-ready innovations. \nWith 400+ stalls\, an exclusive International Pavilion\, and an expected 50\,000+ visitors\, ITF-2026 serves as a powerful platform for networking\, brand visibility\, and business expansion. Experience the perfect blend of tradition\, culture\, and global commerce—where ideas connect and businesses grow beyond borders. \n📍 Venue: Texvalley\, Erode📅 Dates: Feb 28\, Mar 1 & 2\, 2026⏰ Time: 10:00 AM – 6:00 PM
URL:https://10xdraftsmedia.com/event/architecture-club-meetup/
LOCATION:Texvalley\, Erode\, NH 544\, Salem - Cochin Highway\, Gangapuram Chithode\, Erode\, Tamilnadu\, 638102\, India
CATEGORIES:Seminars
ATTACH;FMTTYPE=image/jpeg:https://10xdraftsmedia.com/wp-content/uploads/2023/08/WhatsApp-Image-2026-01-10-at-5.32.30-PM-1.jpeg
ORGANIZER;CN="Gary Jones":MAILTO:contact@example.com
END:VEVENT
END:VCALENDAR